BEGIN:VCALENDAR
VERSION:2.0
PRODID:-//ChamberMaster//Event Calendar 2.0//EN
METHOD:PUBLISH
X-PUBLISHED-TTL:P1H
REFRESH-INTERVAL:P1H
CALSCALE:GREGORIAN
BEGIN:VTIMEZONE
TZID:America/Chicago
BEGIN:DAYLIGHT
RRULE:FREQ=YEARLY;BYMONTH=3;BYDAY=2SU
DTSTART:20070101T000000
TZOFFSETFROM:-0600
TZOFFSETTO:-0500
TZNAME:Central Daylight Time
END:DAYLIGHT
BEGIN:STANDARD
RRULE:FREQ=YEARLY;BYMONTH=11;BYDAY=1SU
DTSTART:20070101T000000
TZOFFSETFROM:-0500
TZOFFSETTO:-0600
TZNAME:Central Standard Time
END:STANDARD
END:VTIMEZONE
BEGIN:VEVENT
DTSTART;TZID=America/Chicago:20220922T090000
DTEND;TZID=America/Chicago:20220924T235900
X-MICROSOFT-CDO-ALLDAYEVENT:FALSE
SUMMARY:2022 Crosslake Days
DESCRIPTION:Beautiful Fall colors are the drop back for our Annual Crosslake Days Fall Festival! This premier annual event is a weekend of family fun with activities for all ages! We're bringing back your favorite events\, including the Art & Craft fairs\, Lost Chili Pepper Hunt\, Cider & Candlelight Tour\, Knights of Columbus Corn-Hole Tournament\, Chili Cookoff and Crosslake Ace Hardware Street Dance to make this a weekend jam packed full of fun! Retail shopping and dining at Crosslake businesses is at its finest during this festival with deals and discounts abound!Thank you to each of the 31 businesses who participated in the Chili Cook-off!  In a cumulative scoring system\, our Dahlheimer Beverage representatives\, tallied the highest scores and awarded their Judges Choice to:1st Place - Whitefish at the Lakes Senior Living2nd Place - Outlet Recreation.com/Marine 3rd Place - Crosswoods DevelopmentIn the Peoples Choice category\, with almost 500 votes cast\, the awards go to:1st Place - Whitefish at the Lakes Senior Living2nd Place - Grand Champion Meats3rd Place - RiverWood Bank\nTHE LOST CHILI PEPPER HAS BEEN FOUND! Randy Petersen of White Bear Lake deciphered the clues and found the Lost Chili Pepper at the public access on Goodrich Lake.  Congratulations Randy\, we know you will enjoy all the items in your reward basket\, valued at more than $3\,000 courtesy of Crosslake Chamber member businesses! \nTHURSDAY\, SEPTEMBER 22\, 20229:00 a.m. - Search for the Lost Chili Pepper The first of three daily clues will be released to guide you to the Lost Chili Pepper. Find clues here\, the Crosslake App\, Crosslake Chamber member businesses and at the Crosslake Chamber Welcome Center. 5 - 8 p.m. - Northern MN Railroad Heritage Assn. Spaghetti Meatball Fundraising Dinner at Moonlite Bay Family Restaurant 37627CR 666 - 8 p.m. - Loon & Lakes Trivia - 14 Lakes Craft Brewing Co. 36846 CR 66FRIDAY\, SEPTEMBER 23\, 20229 a.m. - Search for the Lost Chili Pepper Second of three daily clues released4 - 7 p.m. - Family Fun Zone in Crosslake Town Square - 14295 Gould Ave- family fun for all ages!4 - 7 p.m. - Mega Sale and refreshments at Squirrelly Mama 4 - 7 p.m. -Test-a-Toy at Crosslake Vacations & Rentals e-scooters\, e-bikes & surrey bike6:30 p.m. - Pet Parade with the Babinski Foundation6:30 p.m. - Meat Raffle - Crosslake Fifty Lakes American Legion - 35112 CR 38 p.m. - Trivia Moonlite Bay Family Restaurant & Bar - 37627 CR 66 10 p.m. - close - Lakes Area's Best DJ's - Moonlite Bay Family Restaurant & Bar - 37627 CR 66 SATURDAY\, SEPTEMBER 24\, 20228 a.m. - 4 p.m. - Crosslake Ideal Lions Flea Market Crosslake Town Square 8:30 a.m. - 2 p.m. - Crosslake Lutheran Church Jul Fest Craft & Bake Sale Crosslake Lutheran Church - 35960 CR 6 9 a.m. - Search for the Lost Chili Pepper Third and FINAL clue released 9 a.m. - 4 p.m. - Hand Crafted Arts and Crafts Fair - More than 50 artisans present! Old Exchange Lot - 36095 CR 66 10a.m. - 2 p.m. - Day at the Park - Crosslake Community Center 14126 Daggett Pine Road playground grand opening (11 a.m.) Golf cart tours\, Pickleball lessons\, timed obstacle course races\, tour the Community Center\, free root beer floats & popcorn10 a.m. - 3 p.m. - 3rd Annual Knights of Columbus Corn Hole Tournament Hosted by Crosslake Ace Hardware - 35592 Pioneer Drive Compete in the Friends & Family or the Champions Bracket 10 a.m. - 4 p.m. - Wildlife Art Silent Auction - The National Loon Center Nest - 35570 Allen Ave10 a.m.- 4 p.m. - Bouncey Inflatables Lake Country Crafts & Cones - 36084CR 66 11 a.m. - 2 p.m. - Book signing "What's the Buzz About\, Bob Bee" by Annie Silva and Live music featuring Gary & Kelsi Stacken at Kicks the Art Place 36066 CR 6611 a.m.- 5 p.m. - Family Fun Zone brought to you by The Log Church and Crosslake Town Square 14295 Gould St.  Games\, crafts\, burgers\, hot dogs\, snow cones\, Mega Sales\, Test-A-Toy e-scooters\, e-bikes\, Surrey bikes and more!  The Pulse broadcasting live from 11 a.m. - 5 p.m. Live music with The NissFits 1-5 p.m.11:30 a.m.- 2 p.m. - Tremolo's 2022 Scavenger Hunt - check-in at 11:30\, game play 12 -2 p.m. limit of 20 teams so register early.  Check in at the Crosslake Tremolo (35910 CR 66) before game begins11:30 a.m. - 3 p.m. - Live music featuring Johnny Holliday JAG Interior Solutions/Arleans Drapery 35762 CR 312 - till gone - Crosslake Days Chili Cookoff Served at locations throughout Crosslake. Sample one\, or sample them all and Vote for your favorite by 3 p.m. using the Crosslake App! 12 - 3 p.m. - Ring Toss Game Crow Wing Kayaks - 36414 CR 66 - Hook it in 5 tries for a chance to win a $700 kayak!  12 - 3 p.m. - Fun at the Campground - Lawn Games\,  Bonfire & S'mores\, Water Safety Trinkets and meet Bobber the Water Safety Dog! Crosslake Dam Recreation Area  35507 CR 66 12 - 3 p.m. - Open House - The Gathering Event Center 34212 CR 3 - Electric Bike Raffle1 - 4 p.m. - Andy Austin on the Patio - Moonlite Bay Family Restaurant & Bar 37627 CR 661:30 - Bingo - Crosslake Fifty Lakes American Legion  35112 CR 3 2- 5 p.m. - Live music featuring Darren Jackson - 14 Lakes Craft Brewing Co. 36846 CR 663 p.m.  Loon Calling Contest - The National Loon Center Nest  35570 Allen Ave 3 - 7 p.m. - Crosslake Ace Hardware Street Dance featuring Live Music by The T.C. Jammers hosted by Crosslake Ace Hardware  35592 Pioneer Drive 4:30 - 6 p.m. - Seafood Raffle Andy's Bar & Grill - 35453 CR 35 - 7:30 p.m. - Beer\, Wine & Apps Tasting & Silent Auction Fundraiser by Northern Lakes Lightning Boys High School Hockey at Maucieri's Italian Bistro 34650 CR 3 Tickets available at the door7 p.m. - Live music featuring Grimsrud - The Cedar Chest 33350 CR 37 - 9 p.m. Cider and Candlelight Tour Crosslake Historical Society Museum - 35404 CR 3 10 p.m. - close - Lakes Area's Best DJ's Moonlite Bay Family Restaurant & Bar - 37627 CR 66\n\nSpecial Thanks to the Crosslake Days Volunteer Committee for planning this year's event! Heather Jones (The Log Church)\, Dawn Maucieri (Maucieri's Italian Bistro)\, Pat Netko (Lake Country Crafts & Cones)\, Jackie Whipper (Squirrelly Mama)\, Susan Hobbs (Northern MN Railroad Heritage Assn) and Cindy Myogeto (Crosslake Chamber of Commerce)
X-ALT-DESC;FMTTYPE=text/html:<!DOCTYPE html><html><head><title></title></head><body aria-disabled="false"><p>Beautiful Fall colors are the drop back for our Annual Crosslake Days Fall Festival! This premier annual event is a weekend of family fun with activities for all ages! We&#39\;re bringing back your favorite events\, including the Art &amp\; Craft fairs\, Lost Chili Pepper Hunt\, Cider &amp\; Candlelight Tour\, Knights of Columbus Corn-Hole Tournament\, Chili Cookoff and Crosslake Ace Hardware Street Dance to make this a weekend jam packed full of fun!&nbsp\;</p><p>Retail shopping and dining at Crosslake businesses is at its finest during this festival with deals and discounts abound!</p><p><strong fr-original-style="" style="font-weight: 700\;">Thank you to each of the 31 businesses who participated in the Chili Cook-off! &nbsp\;In a cumulative scoring system\, our Dahlheimer Beverage representatives\, tallied the highest scores and awarded their Judges Choice to:</strong></p><p>1st Place - Whitefish at the Lakes Senior Living</p><p>2nd Place - Outlet Recreation.com/Marine&nbsp\;</p><p>3rd Place - Crosswoods Development</p><p><strong fr-original-style="" style="font-weight: 700\;">In the Peoples Choice category\, with almost 500 votes cast\, the awards go to:</strong></p><p>1st Place - Whitefish at the Lakes Senior Living</p><p>2nd Place - Grand Champion Meats</p><p>3rd Place - RiverWood Bank</p><p><br></p><p><strong fr-original-style="box-sizing: border-box\; border: 0px\; font-size: 16px\; font-style: normal\; font-weight: 700\; margin: 0px\; outline: 0px\; padding: 0px\; vertical-align: baseline\; color: rgb(184\, 49\, 47)\; font-family: Montserrat\, sans-serif\; font-variant-ligatures: normal\; font-variant-caps: normal\; letter-spacing: normal\; orphans: 2\; text-align: start\; text-indent: 0px\; text-transform: none\; white-space: normal\; widows: 2\; word-spacing: 0px\; -webkit-text-stroke-width: 0px\; background-color: rgb(255\, 255\, 255)\; text-decoration-thickness: initial\; text-decoration-style: initial\; text-decoration-color: initial\;" style="box-sizing: border-box\; border: 0px\; font-size: 16px\; font-style: normal\; font-weight: 700\; margin: 0px\; outline: 0px\; padding: 0px\; vertical-align: baseline\; color: rgb(184\, 49\, 47)\; font-family: Montserrat\, sans-serif\; font-variant-ligatures: normal\; font-variant-caps: normal\; letter-spacing: normal\; orphans: 2\; text-align: start\; text-indent: 0px\; text-transform: none\; white-space: normal\; widows: 2\; word-spacing: 0px\; -webkit-text-stroke-width: 0px\; background-color: rgb(255\, 255\, 255)\; text-decoration-thickness: initial\; text-decoration-style: initial\; text-decoration-color: initial\;">THE LOST CHILI PEPPER HAS BEEN FOUND! Randy Petersen of White Bear Lake deciphered the clues and found the Lost Chili Pepper at the public access on Goodrich Lake. &nbsp\;Congratulations Randy\, we know you will enjoy all the items in your reward basket\, valued at more than $3\,000 courtesy of Crosslake Chamber member businesses!</strong> </p><p><br></p><p><a href="https://brainerdlakeschamberofcommerce.growthzoneapp.com/ap/CloudFile/Download/LEqo9e9L" fr-original-style="" style="user-select: auto\;"></a></p><p><span style="color: rgb(0\, 0\, 0)\;"><strong fr-original-style="" style="font-weight: 700\;">THURSDAY\, SEPTEMBER 22\, 2022</strong></span></p><ul fr-original-style="" style="list-style-position: inside\;"><li><span style="color: rgb(0\, 0\, 0)\;"><strong fr-original-style="" style="font-weight: 700\;">9:00 a.m. -</strong></span><strong fr-original-style="" style="font-weight: 700\;">&nbsp\;</strong><a fr-original-style="" href="https://business.crosslake.com/calendar/Details/2022-crosslake-days-search-for-the-lost-chili-pepper-737283?sourceTypeId=Hub" style="user-select: auto\;"><strong fr-original-style="" style="font-weight: 700\;">Search for the Lost Chili Pepper</strong></a> <span style="color: rgb(0\, 0\, 0)\;">The first of three daily clues will be released to guide you to the Lost Chili Pepper. Find clues here\, the Crosslake App\, Crosslake Chamber member businesses and at the Crosslake Chamber Welcome Center.&nbsp\;</span></li><li><span style="color: rgb(0\, 0\, 0)\;"><strong fr-original-style="" style="font-weight: 700\;">5 - 8 p.m. - Northern MN Railroad Heritage Assn. Spaghetti Meatball Fundraising Dinner</strong> at Moonlite Bay Family Restaurant 37627CR 66</span></li><li><span style="color: rgb(0\, 0\, 0)\;"><strong fr-original-style="" style="font-weight: 700\;">6 - 8 p.m. -</strong></span><a fr-original-style="" href="https://business.crosslake.com/calendar/Details/14-lakes-brewing-co-meat-raffle-762194?sourceTypeId=Hub" style="user-select: auto\;"><span style="color: rgb(0\, 0\, 0)\;"><strong fr-original-style="" style="font-weight: 700\;">&nbsp\;</strong></span><span style="color: rgb(0\, 0\, 0)\;"><strong fr-original-style="" style="font-weight: 700\;">Loon &amp\; Lakes Trivia</strong></span></a><span style="color: rgb(0\, 0\, 0)\;">&nbsp\;- 14 Lakes Craft Brewing Co. 36846 CR 66</span></li></ul><p><span style="color: rgb(0\, 0\, 0)\;"><strong fr-original-style="" style="font-weight: 700\;">FRIDAY\, SEPTEMBER 23\, 2022</strong></span></p><ul fr-original-style="" style="list-style-position: inside\;"><li style="color: rgb(0\, 0\, 0)\;"><strong fr-original-style="" style="font-weight: 700\;">9 a.m. - Search for the Lost Chili Pepper</strong> Second of three daily clues released</li><li style="color: rgb(0\, 0\, 0)\;"><strong fr-original-style="" style="font-weight: 700\;">4 - 7 p.m. - Family Fun Zone&nbsp\;</strong>in Crosslake Town Square - 14295 Gould Ave- family fun for all ages!<ul fr-original-style="" style="list-style-position: inside\;"><li><strong fr-original-style="" style="font-weight: 700\;">4 - 7 p.m. - Mega Sale and refreshments&nbsp\;</strong>at Squirrelly Mama&nbsp\;</li><li><strong fr-original-style="" style="font-weight: 700\;">4 - 7 p.m.</strong> -<strong fr-original-style="" style="font-weight: 700\;">Test-a-Toy at Crosslake Vacations &amp\; Rentals&nbsp\;</strong>e-scooters\, e-bikes &amp\; surrey bike</li><li style="color: rgb(0\, 0\, 0)\;"><strong fr-original-style="" style="font-weight: 700\;">6:30 p.m.</strong> <strong fr-original-style="" style="font-weight: 700\;">- Pet Parade&nbsp\;</strong>with the Babinski Foundation</li></ul></li><li style="color: rgb(0\, 0\, 0)\;"><strong fr-original-style="" style="font-weight: 700\;">6:30 p.m. - Meat Raffle</strong> - Crosslake Fifty Lakes American Legion - 35112 CR 3</li><li style="color: rgb(0\, 0\, 0)\;"><strong fr-original-style="" style="font-weight: 700\;">8 p.m. - Trivia</strong> Moonlite Bay Family Restaurant &amp\; Bar - 37627 CR 66&nbsp\;</li><li style="color: rgb(0\, 0\, 0)\;"><strong fr-original-style="" style="font-weight: 700\;">10 p.m. - close - Lakes Area&#39\;s Best DJ&#39\;s -</strong> Moonlite Bay Family Restaurant &amp\; Bar - 37627 CR 66&nbsp\;</li></ul><p><span style="color: rgb(0\, 0\, 0)\;"><strong fr-original-style="" style="font-weight: 700\;">SATURDAY\, SEPTEMBER 24\, 2022</strong></span></p><ul fr-original-style="" style="list-style-position: inside\;"><li style="color: rgb(0\, 0\, 0)\;"><strong fr-original-style="" style="font-weight: 700\;">8 a.m. - 4 p.m. -&nbsp\;</strong><a fr-original-style="" href="https://business.crosslake.com/events/Details/flea-market-in-crosslake-town-square-664020?sourceTypeId=Website" style="user-select: auto\;"><strong fr-original-style="" style="font-weight: 700\;">Crosslake Ideal Lions Flea Market</strong></a> Crosslake Town Square&nbsp\;</li><li style="color: rgb(0\, 0\, 0)\;"><strong fr-original-style="" style="font-weight: 700\;">8:3</strong><strong fr-original-style="" style="font-weight: 700\;">0 a.m. - 2 p.m. - Crosslake Lutheran Church Jul Fest Craft &amp\; Bake Sale</strong> Crosslake Lutheran Church - 35960 CR 6&nbsp\;</li><li><span style="color: rgb(0\, 0\, 0)\;"><strong fr-original-style="" style="font-weight: 700\;">9 a.m. -</strong></span><strong fr-original-style="" style="font-weight: 700\;">&nbsp\;</strong><a fr-original-style="" href="https://business.crosslake.com/calendar/Details/2022-crosslake-days-search-for-the-lost-chili-pepper-737283?sourceTypeId=Hub" style="user-select: auto\;"><strong fr-original-style="" style="font-weight: 700\;">Search for the Lost Chili Pepper</strong></a> <span style="color: rgb(0\, 0\, 0)\;">Third and FINAL clue released&nbsp\;</span></li><li><span style="color: rgb(0\, 0\, 0)\;"><strong fr-original-style="" style="font-weight: 700\;">9 a.m. - 4 p.m. -</strong></span><strong fr-original-style="" style="font-weight: 700\;">&nbsp\;</strong><a fr-original-style="" href="https://business.crosslake.com/calendar/Details/2022-crosslake-days-arts-crafts-fair-425634?sourceTypeId=Hub" style="user-select: auto\;"><strong fr-original-style="" style="font-weight: 700\;">Hand Crafted Arts and Crafts Fair</strong></a> <span style="color: rgb(0\, 0\, 0)\;">- More than 50 artisans present! Old Exchange Lot - 36095 CR 66&nbsp\;</span></li><li><span style="color: rgb(0\, 0\, 0)\;"><strong fr-original-style="" style="font-weight: 700\;">10a.m. - 2 p.m. - Day at the Park</strong> - Crosslake Community Center 14126 Daggett Pine Road playground grand opening (11 a.m.) Golf cart tours\, Pickleball lessons\, timed obstacle course races\, tour the Community Center\, free root beer floats &amp\; popcorn</span></li><li style="color: rgb(0\, 0\, 0)\;"><span style="color: rgb(0\, 0\, 0)\;"><strong fr-original-style="" style="font-weight: 700\;">10 a.m. - 3 p.m. -</strong></span><strong fr-original-style="" style="font-weight: 700\;">&nbsp\;</strong><a fr-original-style="" href="https://business.crosslake.com/calendar/Details/2022-crosslake-days-cornhole-tournament-737998?sourceTypeId=Hub" style="user-select: auto\;"><strong fr-original-style="" style="font-weight: 700\;">3rd Annual Knights of Columbus Corn Hole Tournament</strong></a> <span style="color: rgb(0\, 0\, 0)\;">Hosted by Crosslake Ace Hardware - 35592 Pioneer Drive Compete in the Friends &amp\; Family or the Champions Bracket&nbsp\;</span></li><li style="color: rgb(0\, 0\, 0)\;"><span style="color: rgb(0\, 0\, 0)\;"><strong fr-original-style="" style="font-weight: 700\;">10 a.m. - 4 p.m. - Wildlife Art Silent Auction</strong> - The National Loon Center Nest - 35570 Allen Ave</span></li><li style="color: rgb(0\, 0\, 0)\;"><strong fr-original-style="" style="font-weight: 700\;">10 a.m.- 4 p.m. - Bouncey Inflatables</strong> Lake Country Crafts &amp\; Cones - 36084CR 66&nbsp\;</li><li style="color: rgb(0\, 0\, 0)\;"><strong fr-original-style="" style="font-weight: 700\;">11 a.m. - 2 p.m. - Book signing</strong> &quot\;What&#39\;s the Buzz About\, Bob Bee&quot\; by Annie Silva and <strong fr-original-style="" style="font-weight: 700\;">Live music</strong> <strong fr-original-style="" style="font-weight: 700\;">featuring&nbsp\;</strong><em><strong fr-original-style="" style="font-weight: 700\;">Gary &amp\; Kelsi Stacken</strong>&nbsp\;</em>at Kicks the Art Place 36066 CR 66</li><li style="color: rgb(0\, 0\, 0)\;"><strong fr-original-style="" style="font-weight: 700\;">11 a.m.- 5 p.m. - Family Fun Zone</strong> brought to you by The Log Church and Crosslake Town Square 14295 Gould St. &nbsp\;Games\, crafts\, burgers\, hot dogs\, snow cones\, Mega Sales\, Test-A-Toy e-scooters\, e-bikes\, Surrey bikes and more! &nbsp\;<em>The Pulse</em> broadcasting live from 11 a.m. - 5 p.m. Live music with <em>The NissFits</em> 1-5 p.m.</li><li style="color: rgb(0\, 0\, 0)\;"><strong fr-original-style="" style="font-weight: 700\;">11:30 a.m.- 2 p.m. -&nbsp\;</strong><a fr-original-style="" href="http://events.r20.constantcontact.com/register/event?oeidk=a07ejd05tqf218d5284&llr=vkaztw5ab" style="user-select: auto\;"><strong fr-original-style="" style="font-weight: 700\;">Tremolo&#39\;s 2022 Scavenger Hunt</strong></a> - check-in at 11:30\, game play 12 -2 p.m. limit of 20 teams so register early. &nbsp\;Check in at the Crosslake Tremolo (35910 CR 66) before game begins</li><li style="color: rgb(0\, 0\, 0)\;"><strong fr-original-style="" style="font-weight: 700\;">11:30 a.m. - 3 p.m. - Live music featuring&nbsp\;</strong><em><strong fr-original-style="" style="font-weight: 700\;">Johnny Holliday</strong>&nbsp\;</em>JAG Interior Solutions/Arleans Drapery 35762 CR 3</li><li><span style="color: rgb(0\, 0\, 0)\;"><strong fr-original-style="" style="font-weight: 700\;">12 - till gone -&nbsp\;</strong></span><span style="color: rgb(61\, 142\, 185)\;"><a fr-original-style="" href="https://business.crosslake.com/events/Details/2022-crosslake-days-chili-cookoff-707926?sourceTypeId=Website" style="user-select: auto\; color: inherit\;"><strong fr-original-style="" style="font-weight: 700\;">Crosslake Days Chili Cookoff</strong></a></span><span style="color: rgb(0\, 0\, 0)\;"><strong fr-original-style="" style="font-weight: 700\;">&nbsp\;</strong>Served at locations throughout Crosslake. Sample one\, or sample them all and Vote for your favorite by 3 p.m. using the Crosslake App!&nbsp\;</span></li><li style="color: rgb(0\, 0\, 0)\;"><strong fr-original-style="" style="font-weight: 700\;">12 - 3 p.m. - Ring Toss Game</strong> Crow Wing Kayaks - 36414 CR 66 - Hook it in 5 tries for a chance to win a $700 kayak! &nbsp\;</li><li style="color: rgb(0\, 0\, 0)\;"><strong fr-original-style="" style="font-weight: 700\;">12 - 3 p.m. - Fun at the Campground</strong> - Lawn Games\, &nbsp\;Bonfire &amp\; S&rsquo\;mores\, Water Safety Trinkets and meet Bobber the Water Safety Dog! Crosslake Dam Recreation Area &nbsp\;35507 CR 66&nbsp\;</li><li style="color: rgb(0\, 0\, 0)\;"><strong fr-original-style="" style="font-weight: 700\;">12 - 3 p.m. - Open House</strong> - The Gathering Event Center 34212 CR 3 - Electric Bike Raffle</li><li style="color: rgb(0\, 0\, 0)\;"><strong fr-original-style="" style="font-weight: 700\;">1 - 4 p.m. - <em>Andy Austin</em> on the Patio&nbsp\;</strong>- Moonlite Bay Family Restaurant &amp\; Bar 37627 CR 66</li><li style="color: rgb(0\, 0\, 0)\;"><strong fr-original-style="" style="font-weight: 700\;">1:30 - Bingo</strong> - Crosslake Fifty Lakes American Legion &nbsp\;35112 CR 3&nbsp\;</li><li style="color: rgb(0\, 0\, 0)\;"><strong fr-original-style="" style="font-weight: 700\;">2- 5 p.m. - Live music</strong><strong fr-original-style="" style="font-weight: 700\;">&nbsp\;featuring <em>Darren Jackson</em></strong> - 14 Lakes Craft Brewing Co. 36846 CR 66</li><li style="color: rgb(0\, 0\, 0)\;"><strong fr-original-style="" style="font-weight: 700\;">3 p.m. &nbsp\;Loon Calling Contest -&nbsp\;</strong>The<strong fr-original-style="" style="font-weight: 700\;">&nbsp\;</strong>National Loon Center Nest &nbsp\;35570 Allen Ave&nbsp\;</li><li style="color: rgb(0\, 0\, 0)\;"><strong fr-original-style="" style="font-weight: 700\;">3 - 7 p.m. - Crosslake Ace Hardware Street Dance</strong> featuring Live Music by The T.C. Jammers hosted by Crosslake Ace Hardware &nbsp\;35592 Pioneer Drive&nbsp\;</li><li style="color: rgb(0\, 0\, 0)\;"><strong fr-original-style="" style="font-weight: 700\;">4:30 - 6 p.m. - Seafood Raffle</strong> Andy&#39\;s Bar &amp\; Grill - 35453 CR 3</li><li style="color: rgb(0\, 0\, 0)\;"><strong fr-original-style="" style="font-weight: 700\;">5 - 7:30 p.m. -&nbsp\;</strong><a fr-original-style="" href="https://business.brainerdlakeschamber.com/calendar/Details/blue-line-club-wine-beer-tasting-event-761185?sourceTypeId=Hub" style="user-select: auto\;"><strong fr-original-style="" style="font-weight: 700\;">Beer\, Wine &amp\; Apps Tasting &amp\; Silent Auction Fundraiser</strong></a> by Northern Lakes Lightning Boys High School Hockey at Maucieri&#39\;s Italian Bistro 34650 CR 3 Tickets available at the door</li><li style="color: rgb(0\, 0\, 0)\;"><strong fr-original-style="" style="font-weight: 700\;">7 p.m. - Live music&nbsp\;</strong><strong fr-original-style="" style="font-weight: 700\;">featuring&nbsp\;</strong><em><strong fr-original-style="" style="font-weight: 700\;">Grimsrud</strong></em> - The Cedar Chest 33350 CR 3</li><li style="color: rgb(0\, 0\, 0)\;"><strong fr-original-style="" style="font-weight: 700\;">7 - 9 p.m.&nbsp\;</strong><a fr-original-style="" href="https://business.crosslake.com/events/Details/crosslake-log-village-cider-and-candlelight-tour-766247?sourceTypeId=Website" style="user-select: auto\;"><strong fr-original-style="" style="font-weight: 700\;">Cide</strong><strong fr-original-style="" style="font-weight: 700\;">r and Candlelight Tour Crosslake</strong></a> Historical Society Museum - 35404 CR 3&nbsp\;</li><li style="color: rgb(0\, 0\, 0)\;"><strong fr-original-style="" style="font-weight: 700\;">10 p.m. - close - Lakes Area&#39\;s Best DJ&#39\;s</strong> Moonlite Bay Family Restaurant &amp\; Bar - 37627 CR 66<br><br></li></ul><p><span style="color: rgb(0\, 0\, 0)\;">Special Thanks to the Crosslake Days Volunteer Committee for planning this year&#39\;s event! Heather Jones (The Log Church)\, Dawn Maucieri (Maucieri&#39\;s Italian Bistro)\, Pat Netko (Lake Country Crafts &amp\; Cones)\, Jackie Whipper (Squirrelly Mama)\, Susan Hobbs (Northern MN Railroad Heritage Assn) and Cindy Myogeto (Crosslake Chamber of Commerce)</span></p></body></html>
LOCATION:Crosslake MN 56442
UID:e.2467.610522
SEQUENCE:3
DTSTAMP:20260424T163428Z
URL:https://business.explorebrainerdlakes.com/events/Details/2022-crosslake-days-633533?sourceTypeId=Hub
END:VEVENT
END:VCALENDAR
