BEGIN:VCALENDAR
VERSION:2.0
PRODID:-//ChamberMaster//Event Calendar 2.0//EN
METHOD:PUBLISH
X-PUBLISHED-TTL:P1H
REFRESH-INTERVAL:P1H
CALSCALE:GREGORIAN
BEGIN:VTIMEZONE
TZID:America/Chicago
BEGIN:DAYLIGHT
RRULE:FREQ=YEARLY;BYMONTH=3;BYDAY=2SU
DTSTART:20070101T000000
TZOFFSETFROM:-0600
TZOFFSETTO:-0500
TZNAME:Central Daylight Time
END:DAYLIGHT
BEGIN:STANDARD
RRULE:FREQ=YEARLY;BYMONTH=11;BYDAY=1SU
DTSTART:20070101T000000
TZOFFSETFROM:-0500
TZOFFSETTO:-0600
TZNAME:Central Standard Time
END:STANDARD
END:VTIMEZONE
BEGIN:VEVENT
DTSTART;TZID=America/Chicago:20260822T103000
DTEND;TZID=America/Chicago:20260822T140000
X-MICROSOFT-CDO-ALLDAYEVENT:FALSE
SUMMARY:About Bees & Honey at the Crosslake Log Village
DESCRIPTION:Join local beekeeper Kate Williams for a fascinating look into the world of bees\, honey\, and the inner workings of the hive. After learning about these busy pollinators\, children can head over to the Log Village School House to create their own whimsical spider craft project.
X-ALT-DESC;FMTTYPE=text/html:Join local beekeeper Kate Williams for a fascinating look into the world of bees\, honey\, and the inner workings of the hive. After learning about these busy pollinators\, children can head over to the Log Village School House to create their own whimsical spider craft project.
LOCATION:35404 County Road 3 Crosslake MN 56442
UID:e.2467.1450327
SEQUENCE:3
DTSTAMP:20260424T093911Z
URL:https://business.explorebrainerdlakes.com/events/Details/about-bees-honey-at-the-crosslake-log-village-1717907?sourceTypeId=Hub
END:VEVENT
END:VCALENDAR
