BEGIN:VCALENDAR
VERSION:2.0
PRODID:-//ChamberMaster//Event Calendar 2.0//EN
METHOD:PUBLISH
X-PUBLISHED-TTL:P1H
REFRESH-INTERVAL:P1H
CALSCALE:GREGORIAN
BEGIN:VTIMEZONE
TZID:America/Chicago
BEGIN:DAYLIGHT
RRULE:FREQ=YEARLY;BYMONTH=3;BYDAY=2SU
DTSTART:20070101T000000
TZOFFSETFROM:-0600
TZOFFSETTO:-0500
TZNAME:Central Daylight Time
END:DAYLIGHT
BEGIN:STANDARD
RRULE:FREQ=YEARLY;BYMONTH=11;BYDAY=1SU
DTSTART:20070101T000000
TZOFFSETFROM:-0500
TZOFFSETTO:-0600
TZNAME:Central Standard Time
END:STANDARD
END:VTIMEZONE
BEGIN:VEVENT
DTSTART;VALUE=DATE:20200831
DTEND;VALUE=DATE:20200901
TRANSP:TRANSPARENT
X-MICROSOFT-CDO-ALLDAYEVENT:TRUE
SUMMARY:BIR Performance Driving School
DESCRIPTION:A driving experience you'll never forget!\n\nHere's the chance you've been waiting for. Your heart beats faster. You grab the steering wheel in anticipation. Driving will never be the same again. Welcome to the BIR Performance Driving School.\n\nShift from racing fan to real race car driver in just one day. Our experienced driving instructors\, some of whom have raced professionally\, will teach you the finer points of performance driving and how to get the most of you and your car on a race track. You start with classroom instruction and then you hit the track to put your new knowledge to the test. Drive your own car or use one of the school's purpose-built race cars. Mastering a well-tuned machine on a real race track changes your perception of driving.\n\nFor more than 20 years\, the BIR Performance Driving School has delivered the only experience of its kind in the Midwest. Register to race this season or purchase Gift Cards that are good for all events and merchandise at the track. The school has 11 dates on the 2020 schedule. Click here to visit the school's website for more details. Below are the school dates followed by more opportunities through the BIR Performance Driving School.\n\nMay 4   Donnybrooke AND Competition Road Courses\n\nMay 18    Competition Road Course\n\nJune 1    Competition Road Course\n\nJune 15    Competition Road Course                                \n\nJune 29    Donnybrooke AND Competition Road Courses                                 \n\nJuly 13   Competition Road Course\n\nJuly 27 -Donnybrooke AND Competition Road Courses\n\nAug. 31   Competition Road Course\n\nSept. 21   Donnybrooke AND Competition Road Courses\n\nSept. 28   Competition Road Course\n\nOct. 5   Donnybrooke AND Competition Road Courses
X-ALT-DESC;FMTTYPE=text/html:<h2 style="font-style:italic">A driving experience you&rsquo\;ll never forget!</h2>\n\n<p>Here&rsquo\;s the chance you&rsquo\;ve been waiting for. Your heart beats faster. You grab the steering wheel in anticipation. Driving will never be the same again. Welcome to the BIR Performance Driving School.</p>\n\n<p>Shift from racing fan to real race car driver in just one day. Our experienced driving instructors\, some of whom have raced professionally\, will teach you the finer points of performance driving and how to get the most of you and your car on a race track. You start with classroom instruction and then you hit the track to put your new knowledge to the test. Drive your own car or use one of the school&rsquo\;s purpose-built race cars. Mastering a well-tuned machine on a real race track changes your perception of driving.</p>\n\n<p>For more than 20 years\, the BIR Performance Driving School has delivered the only experience of its kind in the Midwest. Register to race this season or purchase Gift Cards that are good for all events and merchandise at the track. The school has 11 dates on the 2020 schedule.<strong><a href="http://www.birperformance.com/" rel="noopener" style="box-sizing: border-box\; background-color: transparent\; line-height: inherit\; color: rgb(237\, 28\, 36)\; text-decoration-line: none\; cursor: pointer\;" target="_blank">&nbsp\;Click here</a></strong>&nbsp\;to visit the school&rsquo\;s website for more details. Below are the school dates followed by more opportunities through the BIR Performance Driving School.</p>\n\n<p><strong>May 4</strong>&nbsp\;&ndash\; Donnybrooke AND Competition Road Courses<br />\n<strong>May 18&nbsp\;</strong>&ndash\;&nbsp\; Competition Road Course<br />\n<strong>June 1</strong>&nbsp\;&ndash\;&nbsp\; Competition Road Course<br />\n<strong>June 15</strong>&nbsp\;&ndash\;&nbsp\; Competition Road Course &nbsp\; &nbsp\; &nbsp\; &nbsp\; &nbsp\; &nbsp\; &nbsp\; &nbsp\; &nbsp\; &nbsp\; &nbsp\; &nbsp\; &nbsp\; &nbsp\;<strong>&nbsp\; &nbsp\;&nbsp\;</strong><br />\n<strong>June 29</strong>&nbsp\;&ndash\;&nbsp\; Donnybrooke AND Competition Road Courses &nbsp\; &nbsp\; &nbsp\; &nbsp\; &nbsp\; &nbsp\; &nbsp\; &nbsp\; &nbsp\; &nbsp\; &nbsp\; &nbsp\; &nbsp\; &nbsp\; &nbsp\;<strong>&nbsp\; &nbsp\;</strong><br />\n<strong>July 13</strong>&nbsp\;&ndash\; Competition Road Course<br />\n<strong>July 27</strong>&nbsp\;-Donnybrooke AND Competition Road Courses<br />\n<strong>Aug. 31</strong>&nbsp\;&ndash\; Competition Road Course<br />\n<strong>Sept. 21</strong>&nbsp\;&ndash\; Donnybrooke AND Competition Road Courses<br />\n<strong>Sept. 28</strong>&nbsp\;&ndash\; Competition Road Course<br />\n<strong>Oct. 5 &ndash\;&nbsp\;</strong>Donnybrooke AND Competition Road Courses</p>
LOCATION:
UID:e.2467.424150
SEQUENCE:3
DTSTAMP:20260423T154408Z
URL:https://business.explorebrainerdlakes.com/events/Details/bir-performance-driving-school-425254?sourceTypeId=Hub
END:VEVENT
END:VCALENDAR
