BEGIN:VCALENDAR
VERSION:2.0
PRODID:-//ChamberMaster//Event Calendar 2.0//EN
METHOD:PUBLISH
X-PUBLISHED-TTL:P1H
REFRESH-INTERVAL:P1H
CALSCALE:GREGORIAN
BEGIN:VTIMEZONE
TZID:America/Chicago
BEGIN:DAYLIGHT
RRULE:FREQ=YEARLY;BYMONTH=3;BYDAY=2SU
DTSTART:20070101T000000
TZOFFSETFROM:-0600
TZOFFSETTO:-0500
TZNAME:Central Daylight Time
END:DAYLIGHT
BEGIN:STANDARD
RRULE:FREQ=YEARLY;BYMONTH=11;BYDAY=1SU
DTSTART:20070101T000000
TZOFFSETFROM:-0500
TZOFFSETTO:-0600
TZNAME:Central Standard Time
END:STANDARD
END:VTIMEZONE
BEGIN:VEVENT
DTSTART;TZID=America/Chicago:20260711T103000
DTEND;TZID=America/Chicago:20260711T130000
X-MICROSOFT-CDO-ALLDAYEVENT:FALSE
SUMMARY:Dream Catchers at the Crosslake Log Village
DESCRIPTION:Visitors ages six and up are invited to craft their own Native American dream catchers using traditional leather and feathers. While the older guests focus on their intricate creations\, younger children can join in the fun with festive face painting.
X-ALT-DESC;FMTTYPE=text/html:Visitors ages six and up are invited to craft their own Native American dream catchers using traditional leather and feathers. While the older guests focus on their intricate creations\, younger children can join in the fun with festive face painting.
LOCATION:35404 County Road 3 Crosslake MN 56442
UID:e.2467.1450276
SEQUENCE:3
DTSTAMP:20260424T093910Z
URL:https://business.explorebrainerdlakes.com/events/Details/dream-catchers-at-the-crosslake-log-village-1717856?sourceTypeId=Hub
END:VEVENT
END:VCALENDAR
