BEGIN:VCALENDAR
VERSION:2.0
PRODID:-//ChamberMaster//Event Calendar 2.0//EN
METHOD:PUBLISH
X-PUBLISHED-TTL:P1H
REFRESH-INTERVAL:P1H
CALSCALE:GREGORIAN
BEGIN:VTIMEZONE
TZID:America/Chicago
BEGIN:DAYLIGHT
RRULE:FREQ=YEARLY;BYMONTH=3;BYDAY=2SU
DTSTART:20070101T000000
TZOFFSETFROM:-0600
TZOFFSETTO:-0500
TZNAME:Central Daylight Time
END:DAYLIGHT
BEGIN:STANDARD
RRULE:FREQ=YEARLY;BYMONTH=11;BYDAY=1SU
DTSTART:20070101T000000
TZOFFSETFROM:-0500
TZOFFSETTO:-0600
TZNAME:Central Standard Time
END:STANDARD
END:VTIMEZONE
BEGIN:VEVENT
DTSTART;TZID=America/Chicago:20260815T103000
DTEND;TZID=America/Chicago:20260815T130000
X-MICROSOFT-CDO-ALLDAYEVENT:FALSE
SUMMARY:Nature Sticks at the Crosslake Log Village
DESCRIPTION:Experience the artistry of nature as raw tree limbs are transformed into unique sculptures\, intricately crafted with animal and plant materials sourced from the grounds of both the past and present.
X-ALT-DESC;FMTTYPE=text/html:Experience the artistry of nature as raw tree limbs are transformed into unique sculptures\, intricately crafted with animal and plant materials sourced from the grounds of both the past and present.
LOCATION:35404 County Road 3 Crosslake MN 56442
UID:e.2467.1450321
SEQUENCE:3
DTSTAMP:20260424T093824Z
URL:https://business.explorebrainerdlakes.com/events/Details/nature-sticks-at-the-crosslake-log-village-1717901?sourceTypeId=Hub
END:VEVENT
END:VCALENDAR
