BEGIN:VCALENDAR
VERSION:2.0
PRODID:-//ChamberMaster//Event Calendar 2.0//EN
METHOD:PUBLISH
X-PUBLISHED-TTL:P1H
REFRESH-INTERVAL:P1H
CALSCALE:GREGORIAN
BEGIN:VTIMEZONE
TZID:America/Chicago
BEGIN:DAYLIGHT
RRULE:FREQ=YEARLY;BYMONTH=3;BYDAY=2SU
DTSTART:20070101T000000
TZOFFSETFROM:-0600
TZOFFSETTO:-0500
TZNAME:Central Daylight Time
END:DAYLIGHT
BEGIN:STANDARD
RRULE:FREQ=YEARLY;BYMONTH=11;BYDAY=1SU
DTSTART:20070101T000000
TZOFFSETFROM:-0500
TZOFFSETTO:-0600
TZNAME:Central Standard Time
END:STANDARD
END:VTIMEZONE
BEGIN:VEVENT
DTSTART;TZID=America/Chicago:20260708T190000
DTEND;TZID=America/Chicago:20260708T200000
X-MICROSOFT-CDO-ALLDAYEVENT:FALSE
SUMMARY:Why History Deserves Preservation at the Crosslake Log Village
DESCRIPTION:The story of our young mayor and the importance he places on his generation – and those to come – in preserving and honoring the history of our community.\n\nSpeaker:  Jackson Purfeerst
X-ALT-DESC;FMTTYPE=text/html:The story of our young mayor and the importance he places on his generation – and those to come – in preserving and honoring the history of our community.\n\nSpeaker:  Jackson Purfeerst
LOCATION:35404 County Road 3 Crosslake MN 56442
UID:e.2467.1450301
SEQUENCE:3
DTSTAMP:20260424T093923Z
URL:https://business.explorebrainerdlakes.com/events/Details/why-history-deserves-preservation-at-the-crosslake-log-village-1717881?sourceTypeId=Hub
END:VEVENT
END:VCALENDAR
